BEGIN:VCALENDAR
VERSION:2.0
PRODID:-//Förderverein Jakobsweg Werne e.V. - ECPv6.15.20//NONSGML v1.0//EN
CALSCALE:GREGORIAN
METHOD:PUBLISH
X-ORIGINAL-URL:https://www.jakobsweg-werne.de
X-WR-CALDESC:Veranstaltungen für Förderverein Jakobsweg Werne e.V.
REFRESH-INTERVAL;VALUE=DURATION:PT1H
X-Robots-Tag:noindex
X-PUBLISHED-TTL:PT1H
BEGIN:VTIMEZONE
TZID:Europe/Berlin
BEGIN:DAYLIGHT
TZOFFSETFROM:+0100
TZOFFSETTO:+0200
TZNAME:CEST
DTSTART:20250330T010000
END:DAYLIGHT
BEGIN:STANDARD
TZOFFSETFROM:+0200
TZOFFSETTO:+0100
TZNAME:CET
DTSTART:20251026T010000
END:STANDARD
BEGIN:DAYLIGHT
TZOFFSETFROM:+0100
TZOFFSETTO:+0200
TZNAME:CEST
DTSTART:20260329T010000
END:DAYLIGHT
BEGIN:STANDARD
TZOFFSETFROM:+0200
TZOFFSETTO:+0100
TZNAME:CET
DTSTART:20261025T010000
END:STANDARD
BEGIN:DAYLIGHT
TZOFFSETFROM:+0100
TZOFFSETTO:+0200
TZNAME:CEST
DTSTART:20270328T010000
END:DAYLIGHT
BEGIN:STANDARD
TZOFFSETFROM:+0200
TZOFFSETTO:+0100
TZNAME:CET
DTSTART:20271031T010000
END:STANDARD
BEGIN:DAYLIGHT
TZOFFSETFROM:+0100
TZOFFSETTO:+0200
TZNAME:CEST
DTSTART:20280326T010000
END:DAYLIGHT
BEGIN:STANDARD
TZOFFSETFROM:+0200
TZOFFSETTO:+0100
TZNAME:CET
DTSTART:20281029T010000
END:STANDARD
END:VTIMEZONE
BEGIN:VEVENT
DTSTART;TZID=Europe/Berlin:20260508T170000
DTEND;TZID=Europe/Berlin:20270508T193000
DTSTAMP:20260420T105816
CREATED:20260126T100047Z
LAST-MODIFIED:20260418T124223Z
UID:1507-1778259600-1809804600@www.jakobsweg-werne.de
SUMMARY:"Laudato si" Pilgergang zum Sonnengesang des Hl. Franziskus
DESCRIPTION:„Laudato si“\nPilgergang zum Sonnengesang des Hl. Franziskus\n \nIm Sonnengesang preist der Hl. Franziskus Gott als den Schöpfer der Welt. Er rühmt in seinem Loblied der Geschöpfe\, das er vor 800 Jahren verfaßt hat\, die Schönheit und Vielfalt des Lebens und lädt alle ein\,\nsich an dem Lobpreis Gottes zu beteiligen. \nKommen Sie mit auf den Pilgergang zum Sonnengesang. \nVon der Pilger Stele führt der Weg zu verschiedenen Stationen in der Stadt.\nSpirituelle Impulse\, miteinander ins Gespräch kommen oder auch eine Zeit des Schweigens erwartet die Teilnehmenden an den einzelnen Stationen.\nIm Klostergarten endet der Gang mit einemgeselligen Abschluss. \nPilgerbegleitung: Pia Gunnenmann und Gabriele Peisker\nTreffpunkt: Freitag\, 08. Mai 2026 um 17:00 Uhr an der Pilger Stele\n Tour Länge:ca. 3 km\nTour Dauer: ca. 2\,5 Std. \nDie Teilnahme ist kostenlos\, eine vorherige Anmeldung nicht erforderlich. \n 
URL:https://www.jakobsweg-werne.de/aktivitaeten/laudato-si-pilgergang-zum-sonnengesang-des-hl-franziskus/
LOCATION:Pilger Stele auf dem Kirchhof in Werne
CATEGORIES:Aktivitäten
END:VEVENT
BEGIN:VEVENT
DTSTART;VALUE=DATE:20260612
DTEND;VALUE=DATE:20260614
DTSTAMP:20260420T105816
CREATED:20260126T093509Z
LAST-MODIFIED:20260126T093509Z
UID:1480-1781222400-1781395199@www.jakobsweg-werne.de
SUMMARY:Neue Wege gehen: Pilgern auf dem Ludgerus Weg- Auf den Spuren des ersten Bischofs von Münster
DESCRIPTION:  \n  \n \nNeue Wege gehen: Pilgern auf dem Ludgerus Weg\n– Auf den Spuren des ersten Bischofs von Münster- \nAuf den Spuren des hl. Ludgerus sind wir auf dem Baumberger Ludgerusweg unterwegs. Wir lassen uns anregen von der Geschichte des Heiligen und spüren seinem Weg nach. Spirituelle Impulse\, Texte und Gebete ermöglichen ein Innehalten auf dem Weg. Der Pilgerweg lädt ein\, neue Wegerfahrungen zu machen und sich vom Leben des Heiligen inspirieren zu lassen.\nAuf der 15 km langen Tour erleben wir die einzigartige Natur- und Kulturlandschaft der Baumberge und entdecken die Orte\, die im Zusammenhang mit dem Leben des Heiligen stehen. \nDas erwartet Euch: \nFreitag\, 12.Juni 2026\nTreffpunkt ist am Freitag\, 12. Juni um 06. 40 Uhr am Bahnhof Werne zur gemeinsamen Zugfahrt nach Coesfeld. Vom Bahnhof Coesfeld geht es zur Pfarrkirche St. Jakobi.\nVon hier starten wir mit dem Pilgersegen auf dem Ludgerusweg. Sieben Kilometer nach dem Start der Tour sehen wir die trutzigen Doppeltürme des Klosters Gerleve. Nach einer Einkehr im Kloster geht es weiter bis wir die hochragenden Doppeltürme des Billerbecker Ludgerus – Domes entdecken. In Billerbeck schauen wir uns das idyllische Städtchen an bevor wir unsere Zimmer beziehen und uns auf das gemeinsame Abendessen freuen.        \nSamstag\, 13. Juni 2026\nNach dem Frühstück um 8.00 Uhr werden wir um 10.00 Uhr im Ludgerus-Dom vom Kantor Lukas Maschke begrüßt\, der für uns die große Fleiter Orgel zum Klingen bringen wird.Von ihm erfahren wir alles Wissenswerte über die Funktionsweise und können auch vom Domturm hoch zur Orgelempore steigen. Im Anschluss um 11.00 Uhr erfolgt eine sachkundige Führung durch den Dom.\nNach einem letzten Rundgang durch den Ort und einer Abschlussrunde geht es zum Bahnhof Billerbeck. Mit dem Zug um 15.05 Uhr erreichen wir um 17.04 Uhr wieder den Bahnhof in Werne. \n  \n  \n  \n  \nLeistungen: \n1 x Übernachtung im Billerbecker Hof\nEZ/ DZ mit Dusche oder Bad/WC\n1 x Frühstück\n1 x Orgelführung\n1 x Domführung\nPilgerausweis \nNicht enthalten \n\nKein Gepäcktransfer\nKosten für die Zugfahrt\nKosten für das Abendessen\n\nTeilnehmerzahl: 12 Erwachsene\nLeitung: Anne Schulz und Gabriele Kranemann \nMitgliederpreis:\n90\,00 Euro pro Person im Doppelzimmer\n105\,00 Euro pro Person im Einzelzimmer\n(Preis für Nichtmitglieder: + 20\,00 Euro) \nAnmeldung an:\nFörderverein Jakobsweg Werne. e.V.\nE-Mail: foerderverein@jakobsweg-werne.de \nAnmeldeschluss: 31.03.2026 \nVortreffen: Dienstag\, 05. Mai um 18.00 Uhr im Kapuzinerkloster Werne \n  \n  \n  \n  \n  \n 
URL:https://www.jakobsweg-werne.de/aktivitaeten/neue-wege-gehen-pilgern-auf-dem-ludgerus-weg-auf-den-spuren-des-ersten-bischofs-von-muenster/
CATEGORIES:Aktivitäten
END:VEVENT
BEGIN:VEVENT
DTSTART;VALUE=DATE:20260627
DTEND;VALUE=DATE:20260629
DTSTAMP:20260420T105816
CREATED:20260303T194341Z
LAST-MODIFIED:20260320T145615Z
UID:1541-1782518400-1782691199@www.jakobsweg-werne.de
SUMMARY:Nacht- Pilgertour von Münster nach Werne
DESCRIPTION:Nacht- Pilgertour\nvon Münster nach Werne\nAchtung: Terminänderung: Auf den Flyern des Fördervereins ist der Termin 20.Juni 2026 angegeben. \nDieser Termin ist auf den 27. Juni 2026 verschoben worden. Wir bitten um Beachtung! \nDer Förderverein Jakobsweg Werne e. V. lädt erstmalig zu einem Pilgern in der Nacht ein.\nAm Samstag\, den 27. Juni 2026 ist gemeinsame Anreise mit dem Zug nach Münster. Nach dem Besuch der Vorabendmesse in der Liebfrauen- Überwasserkirche in Münster geht es zurück zum Bahnhof Münster und von dort mit dem Zug nach Münster-Hiltrup. Hier beginnt die 38km lange Pilgerstrecke.\nUm 7.00 Uhr am Sonntag\, den 28.Juni 2026 ist die Ankunft in Werne geplant.\nUnterwegs gibt es zwei Rast-Stationen. Es werden auf dem Weg Texte zur Nacht gelesen und verschiedene Impulse laden ein\, sich mit spirituellen Erfahrungen der Nacht auseinander zu setzen. Zeiten des Schweigens ermöglichen\, die Stille\, aber auch die besonderen Geräusche der Nacht\, intensiv zu erleben. Bei klarem Himmel werden die Sterne und der Mond den Weg weisen. Am Sonntag morgen ist das Ziel Werne erreicht und die Gruppe wird mit einem leckeren Frühstück im Pfarrhaus von St. Christophorus empfangen. \nStreckenlänge: 38km \nGeplanter Ablauf:\nSamstag\, 27. Juni 2026:\n14:55 Uhr ab Bahnhof Werne (evtl. eine Stunde später) \n15:26 Uhr an Münster Hbf \n17:00 Uhr Liebfrauen-Überwasserkirche Vorabendmesse \n18:10 Uhr ab Münster Hbf\, Gleis 3\, RB89 -> Paderborn \n18:14 Uhr an Münster Hiltrup \noder \n18:35 Uhr ab Münster HBF\, Gleis 3\, RE7 -> Hagen \n18:39 Uhr an Münster Hiltrup \nEtappen: \n1: Hiltup – Rinkerode \n10 km\, ca 2\,5 Stunden\, 60 % Asphalt 40 % Kies \n30 Minuten Pause \n2: Rinkerode – Herbern \n16 km\, ca 4 Stunden \, 100 % Asphalt \n1 Stunde Pause \n3: Herbern – Werne \n12 km\, ca 3 Stunden\, 80 % Asphalt\, 20 % Kies oder ähnlich\, \nSonntag\, den 28. Juni 2026: Ca 7:00 Uhr Abschluss mit Frühstück \nLeitung: Rüdiger Brehm und Marek Stasiczek \nEine vorherige Anmeldung ist erforderlich.\nAnmeldungen unter: foerderverein@jakobsweg-werne.de\nSie haben Fragen zum Nachtpilgern? Wir geben gerne bei Interesse die Kontaktdaten von Hern Rüdigr Brehm an Sie weiter. Bitte per mail nachfragen. \n 
URL:https://www.jakobsweg-werne.de/aktivitaeten/nachtpilgern/
CATEGORIES:Aktivitäten
END:VEVENT
END:VCALENDAR