BEGIN:VCALENDAR
VERSION:2.0
PRODID:-//Förderverein Jakobsweg Werne e.V. - ECPv6.15.20//NONSGML v1.0//EN
CALSCALE:GREGORIAN
METHOD:PUBLISH
X-ORIGINAL-URL:https://www.jakobsweg-werne.de
X-WR-CALDESC:Veranstaltungen für Förderverein Jakobsweg Werne e.V.
REFRESH-INTERVAL;VALUE=DURATION:PT1H
X-Robots-Tag:noindex
X-PUBLISHED-TTL:PT1H
BEGIN:VTIMEZONE
TZID:Europe/Berlin
BEGIN:DAYLIGHT
TZOFFSETFROM:+0100
TZOFFSETTO:+0200
TZNAME:CEST
DTSTART:20240331T010000
END:DAYLIGHT
BEGIN:STANDARD
TZOFFSETFROM:+0200
TZOFFSETTO:+0100
TZNAME:CET
DTSTART:20241027T010000
END:STANDARD
BEGIN:DAYLIGHT
TZOFFSETFROM:+0100
TZOFFSETTO:+0200
TZNAME:CEST
DTSTART:20250330T010000
END:DAYLIGHT
BEGIN:STANDARD
TZOFFSETFROM:+0200
TZOFFSETTO:+0100
TZNAME:CET
DTSTART:20251026T010000
END:STANDARD
BEGIN:DAYLIGHT
TZOFFSETFROM:+0100
TZOFFSETTO:+0200
TZNAME:CEST
DTSTART:20260329T010000
END:DAYLIGHT
BEGIN:STANDARD
TZOFFSETFROM:+0200
TZOFFSETTO:+0100
TZNAME:CET
DTSTART:20261025T010000
END:STANDARD
END:VTIMEZONE
BEGIN:VEVENT
DTSTART;TZID=Europe/Berlin:20251212T180000
DTEND;TZID=Europe/Berlin:20251212T200000
DTSTAMP:20260420T134249
CREATED:20251117T121107Z
LAST-MODIFIED:20251117T121107Z
UID:1386-1765562400-1765569600@www.jakobsweg-werne.de
SUMMARY:Pilgerstammtisch
DESCRIPTION:Pilgerstammtisch in 2025\nDer Förderverein Jakobsweg Werne e. V. lädt wieder alle Pilgerinnen und Pilger und solche\, die es werden wollen\,  zum einem Pilger-Stammtisch ein. Das zweite Treffen im Herbst 2025 findet statt im am Freitag\, den 12. Dezember 2025.\n \nDer Stammtisch dient dem unverbindlichen Erfahrungsaustausch in lockerer Atmosphäre.\nEgal:\n– ob neu oder mit Blasen von tausenden Pilger- Kilometern versehen\n– ob Spanien\, Portugal\, Frankreich oder einfach vor der Haustür\n– ob an einer Pilgrschaft interssiert oder bereit\, die eigenen Erfahrungen zu teilen\, \nist jede/-r zur Teilnahme eingeladen.\nZudem besteht die Möglichkeit sich einen Pilgerausweis ausstellen zu lassen.\nMarek Stasiczek steht als Ansprechpartner zur Verfügung. Er verfügt über jahrelange Pilgererfahrung \nWeitere Termine: \nWir laden zum Stammtisch an jedem zweiten Freitag im Monat ab 18.00 Uhr ein. \nEine vorherige Anmeldung ist nicht erforderlich.\nTreffpunkt: Restaurant „Stilvoll im Rathaus“\, 59368 Werne\, Markt 9
URL:https://www.jakobsweg-werne.de/aktivitaeten/pilgerstammtisch-9/
LOCATION:Restaurant „Stilvoll im Rathaus“\, Markt 9\, 59368 Werne
CATEGORIES:Aktivitäten
END:VEVENT
BEGIN:VEVENT
DTSTART;TZID=Europe/Berlin:20251228T170000
DTEND;TZID=Europe/Berlin:20251228T200000
DTSTAMP:20260420T134249
CREATED:20250224T125033Z
LAST-MODIFIED:20251119T141952Z
UID:1097-1766941200-1766952000@www.jakobsweg-werne.de
SUMMARY:"Kommet ihr Hirten..." Pilgern zu Werner Kirchenkrippen
DESCRIPTION:“ Kommet ihr Hirten…“\nPilgern zu Werner Kirchenkrippen\nDas Krippenpilgern startet in der Kapelle des St. Christophorus Krankenhauses. Von dort geht es weiter zur Kapelle des Klosters der Arnsteiner Patres. Der Weg führt dann in die Innenstadt zu den Krippen in der Kloster-Kirche\, bevor im Refektorium des Kapuzinerklosters der Krippenweg gemütlich mit einem kleinen Imbiss und Getränken ausklingt. An allen Krippen gibt es jeweils eine Erläuterung und einen spirituellen Impuls. \nAlle Interessierten sind eingeladen\, sich auf diesem Weg ein Bild von den unterschiedlichen Krippen zu machen und sich von der Weihnachtsbotschaft anstecken zu lassen. Jede Krippe erzählt ihre eigene besondere Weihnachtsgeschichte. Doch die Botschaft ist bei allen Krippen eindeutig:\nMit Jesus kamen Hoffnung\, Glaube und Liebe in die Welt! \nTreffpunkt: So. 28.12.2025 um 17.00 Uhr\nKapelle Krankenhaus St. Christophorus\, Am See 1 in Werne\nAbschluss: gegen 20.00 Uhr im Kapuzinerkloster Werne\n(Die Kapelle befindet sich im Sockelgeschoss des St. Christophorus Krankenhauses.) \nHinweis: Die Tour-Länge beträgt ca. 2\,5 km\, die Tour-Dauer beträgt ca. 3 Stunden.\nDie Veranstaltung ist kostenfrei und eine Anmeldung nicht erforderlich. \n 
URL:https://www.jakobsweg-werne.de/aktivitaeten/kommet-ihr-hirten-pilgern-zu-werner-kirchenkrippen/
LOCATION:St. Christophorus Krankenhaus\, Am See 1\, 59368 Werne
CATEGORIES:Aktivitäten
END:VEVENT
END:VCALENDAR