BEGIN:VCALENDAR
VERSION:2.0
PRODID:-//Förderverein Jakobsweg Werne e.V. - ECPv6.15.20//NONSGML v1.0//EN
CALSCALE:GREGORIAN
METHOD:PUBLISH
X-ORIGINAL-URL:https://www.jakobsweg-werne.de
X-WR-CALDESC:Veranstaltungen für Förderverein Jakobsweg Werne e.V.
REFRESH-INTERVAL;VALUE=DURATION:PT1H
X-Robots-Tag:noindex
X-PUBLISHED-TTL:PT1H
BEGIN:VTIMEZONE
TZID:Europe/Berlin
BEGIN:DAYLIGHT
TZOFFSETFROM:+0100
TZOFFSETTO:+0200
TZNAME:CEST
DTSTART:20240331T010000
END:DAYLIGHT
BEGIN:STANDARD
TZOFFSETFROM:+0200
TZOFFSETTO:+0100
TZNAME:CET
DTSTART:20241027T010000
END:STANDARD
BEGIN:DAYLIGHT
TZOFFSETFROM:+0100
TZOFFSETTO:+0200
TZNAME:CEST
DTSTART:20250330T010000
END:DAYLIGHT
BEGIN:STANDARD
TZOFFSETFROM:+0200
TZOFFSETTO:+0100
TZNAME:CET
DTSTART:20251026T010000
END:STANDARD
BEGIN:DAYLIGHT
TZOFFSETFROM:+0100
TZOFFSETTO:+0200
TZNAME:CEST
DTSTART:20260329T010000
END:DAYLIGHT
BEGIN:STANDARD
TZOFFSETFROM:+0200
TZOFFSETTO:+0100
TZNAME:CET
DTSTART:20261025T010000
END:STANDARD
END:VTIMEZONE
BEGIN:VEVENT
DTSTART;TZID=Europe/Berlin:20251031T170000
DTEND;TZID=Europe/Berlin:20251031T190000
DTSTAMP:20260420T170912
CREATED:20250224T125020Z
LAST-MODIFIED:20250224T125020Z
UID:1094-1761930000-1761937200@www.jakobsweg-werne.de
SUMMARY:„Wir sind nur Gast auf Erden und wandern ohne Ruh“
DESCRIPTION:Pilgergang zum katholischen Friedhof \nGehen Sie mit uns auf einen Erkundungsgang über den katholischen Friedhof am Südring. Es erwartet Sie ein Programm-Mix aus Kultur\, Information und literarischen Impulsen \, die zeigen\, dass Friedhöfe nicht nur ein Ort der Trauer\, sondern auch ein Ort der Besinnung sein können. Lernen Sie den Friedhof aus einem anderen Blickwinkel kennen und erfahren Sie mehr über die heutige Bestattungs- und Trauerkultur. \nPilgerbegleitung:\nPfarrdechant Jürgen Schäfer\nMitarbeiterinnen der Hospiz-Gruppe Werne \nTrefpunkt: Fr. 31.10.2025 um 17.00 Uhr an der Pilger Stele\nEnde: ca. 19.00 Uhr \nTour Länge: ca.4 km
URL:https://www.jakobsweg-werne.de/aktivitaeten/wir-sind-nur-gast-auf-erden-und-wandern-ohne-ruh-2/
LOCATION:Kath. Friedhof\, Südring 2\, Werne\, 59368
CATEGORIES:Aktivitäten
END:VEVENT
END:VCALENDAR