BEGIN:VCALENDAR
VERSION:2.0
PRODID:-//Förderverein Jakobsweg Werne e.V. - ECPv6.15.20//NONSGML v1.0//EN
CALSCALE:GREGORIAN
METHOD:PUBLISH
X-WR-CALNAME:Förderverein Jakobsweg Werne e.V.
X-ORIGINAL-URL:https://www.jakobsweg-werne.de
X-WR-CALDESC:Veranstaltungen für Förderverein Jakobsweg Werne e.V.
REFRESH-INTERVAL;VALUE=DURATION:PT1H
X-Robots-Tag:noindex
X-PUBLISHED-TTL:PT1H
BEGIN:VTIMEZONE
TZID:Europe/Berlin
BEGIN:DAYLIGHT
TZOFFSETFROM:+0100
TZOFFSETTO:+0200
TZNAME:CEST
DTSTART:20240331T010000
END:DAYLIGHT
BEGIN:STANDARD
TZOFFSETFROM:+0200
TZOFFSETTO:+0100
TZNAME:CET
DTSTART:20241027T010000
END:STANDARD
BEGIN:DAYLIGHT
TZOFFSETFROM:+0100
TZOFFSETTO:+0200
TZNAME:CEST
DTSTART:20250330T010000
END:DAYLIGHT
BEGIN:STANDARD
TZOFFSETFROM:+0200
TZOFFSETTO:+0100
TZNAME:CET
DTSTART:20251026T010000
END:STANDARD
BEGIN:DAYLIGHT
TZOFFSETFROM:+0100
TZOFFSETTO:+0200
TZNAME:CEST
DTSTART:20260329T010000
END:DAYLIGHT
BEGIN:STANDARD
TZOFFSETFROM:+0200
TZOFFSETTO:+0100
TZNAME:CET
DTSTART:20261025T010000
END:STANDARD
END:VTIMEZONE
BEGIN:VEVENT
DTSTART;VALUE=DATE:20250906
DTEND;VALUE=DATE:20250907
DTSTAMP:20260420T185148
CREATED:20250224T124947Z
LAST-MODIFIED:20250224T124947Z
UID:1064-1757116800-1757203199@www.jakobsweg-werne.de
SUMMARY:Pilgern in die 3. Jahreszeit - Von Werne zum Beversee
DESCRIPTION:Pilgern in die 3. Jahreszeit\n„Weiterschauen über den eigenen Horizont“\nVon Werne zum Beversee\n \nPilgern erfreut sich großer Beliebtheit. Als Möglichkeit\, mal rauszukommen\, bietet dieser Tag eine Auszeit vom Alltag. Unter dem Motto: “ Weiterschauen über den eigenen Horizont“  geht es auf einem Rundweg zum idylischen Beversee. Es sind überwiegend befestigte\, ebene Wege. Spirituelle Impulse\, miteinander ins Gespräch kommen oder auch eine Zeit des Schweigens erwartet die Teilnehmenden. \nPilgerbegeleiterin: Petra Kimm\nTreffpunkt: Sa. 06.09.2025 um 11:00 Uhr an der Pilger Stele\nDort endet auch die Tour gegen 16:00 Uhr\n Tour Länge: 9km\nTour Dauer: ca. 5 Std.\nEs empfiehlt sich\, ein Getränk mitzunehmen.
URL:https://www.jakobsweg-werne.de/aktivitaeten/pilgern-in-die-3-jahreszeit-von-werne-zum-beversee/
LOCATION:Pilger Stele auf dem Kirchhof in Werne
CATEGORIES:Aktivitäten
END:VEVENT
BEGIN:VEVENT
DTSTART;TZID=Europe/Berlin:20250909T190000
DTEND;TZID=Europe/Berlin:20250909T210000
DTSTAMP:20260420T185148
CREATED:20250522T123803Z
LAST-MODIFIED:20250522T123803Z
UID:1062-1757444400-1757451600@www.jakobsweg-werne.de
SUMMARY:Jahreshauptversammlung des Fördervereins Jakobsweg Werne e.V.
DESCRIPTION:Zur jährlichenMitgliederversammlung des Fördervereins Jakobsweg Werne e.V.\nladen wir in das Kapuzinerkloster ein. Sie findet statt am\nDienstag\, den 09. September um 19.00 Uhr. \nEs erfolgt noch eine gesonderte\, termingerechte Einladung an alle Mitglieder. \n \n  \n 
URL:https://www.jakobsweg-werne.de/aktivitaeten/jahreshauptversammlung-des-foerdervereins-jakobsweg-werne-e-v-3/
LOCATION:Kapuzinerkloster Werne\, Südmauer 5\, Werne\, 59368
CATEGORIES:Aktivitäten
END:VEVENT
BEGIN:VEVENT
DTSTART;TZID=Europe/Berlin:20250926T170000
DTEND;TZID=Europe/Berlin:20250926T210000
DTSTAMP:20260420T185148
CREATED:20250224T125005Z
LAST-MODIFIED:20250923T112739Z
UID:1104-1758906000-1758920400@www.jakobsweg-werne.de
SUMMARY:"Nun danket alle Gott"- Erntedank- Pilgern zur Rochus Kapelle
DESCRIPTION:„Nun danket alle Gott“- Erntedank-Pilgern zur Rochus Kapelle\n\n\n\n \nDie spirituelle Wanderung führt auf historischem Pfad zur Rochus-Kapelle zwischen Werne und Lünen\, einem der schönsten Kleinode der Region.\n\nStart ist 17:00 Uhr an der Pilger-Stele in Werne mit einem Pilgersegen. Anschließend führt der Weg die Teilnehmenden Richtung Lenklar zur Rochus-Kapelle. Spirituelle Impulse begleiten die Pilgerinnen und Pilger auf der rund drei Kilometer langen Strecke und laden zur inneren Einkehr in der herbstlichen Natur ein. \nDie Rochus-Kapelle selbst steht an einem Ort mit jahrhundertealter Geschichte: Wo im Mittelalter ein Siechenhaus und eine dem Heiligen Rochus geweihte Kapelle standen\, wurde 1884/85 die heutige Kapelle errichtet\, die dem Heiligen Georg geweiht ist. Höhepunkt der Pilgertour ist der gemeinsame Erntedank-Gottesdienst um 19.00 Uhr in der historischen Kapelle\, den Pater Ernst gemeinsam mit der Martinsgesellschaft zelebriert. \nIm Anschluss an den Gottesdienst lädt die Martinsgesellschaft zu einem geselligen Erntedankfest ein\, das Gelegenheit zum Austausch und zur Begegnung bietet. \nDer Rückweg ist für ca. 21.00 Uhr mit dem Sammeltaxi (gegen eine Umlage) geplant. \n\n\n\nTreffpunkt: Fr. 26.09.2025 um 17.00 Uhr an der Pilger Stele\nTour Länge: ca. 3 km \nDer Rückweg erfolgt gegen 21.00 Uhr per Sammeltaxi. Die Kosten werden umgelegt. \nHinweis: Mit der Teilnahme an der Veranstaltung stimmen Sie zu\, dass Bild-\, Text- und Tonmaterial\,\ndas Ihre Persönlichkeitsrechte betrifft\, im redaktionellen Zusammenhang mit der\nBerichterstattung über den Förderverein Jakobsweg Werne e.V.  veröffentlicht werden darf. \n 
URL:https://www.jakobsweg-werne.de/aktivitaeten/nun-danket-alle-gott-pilgergang-zur-rochus-kapelle/
LOCATION:Pilger Stele auf dem Kirchhof in Werne
CATEGORIES:Aktivitäten
END:VEVENT
END:VCALENDAR