BEGIN:VCALENDAR
VERSION:2.0
PRODID:-//Förderverein Jakobsweg Werne e.V. - ECPv6.15.20//NONSGML v1.0//EN
CALSCALE:GREGORIAN
METHOD:PUBLISH
X-ORIGINAL-URL:https://www.jakobsweg-werne.de
X-WR-CALDESC:Veranstaltungen für Förderverein Jakobsweg Werne e.V.
REFRESH-INTERVAL;VALUE=DURATION:PT1H
X-Robots-Tag:noindex
X-PUBLISHED-TTL:PT1H
BEGIN:VTIMEZONE
TZID:Europe/Berlin
BEGIN:DAYLIGHT
TZOFFSETFROM:+0100
TZOFFSETTO:+0200
TZNAME:CEST
DTSTART:20240331T010000
END:DAYLIGHT
BEGIN:STANDARD
TZOFFSETFROM:+0200
TZOFFSETTO:+0100
TZNAME:CET
DTSTART:20241027T010000
END:STANDARD
BEGIN:DAYLIGHT
TZOFFSETFROM:+0100
TZOFFSETTO:+0200
TZNAME:CEST
DTSTART:20250330T010000
END:DAYLIGHT
BEGIN:STANDARD
TZOFFSETFROM:+0200
TZOFFSETTO:+0100
TZNAME:CET
DTSTART:20251026T010000
END:STANDARD
BEGIN:DAYLIGHT
TZOFFSETFROM:+0100
TZOFFSETTO:+0200
TZNAME:CEST
DTSTART:20260329T010000
END:DAYLIGHT
BEGIN:STANDARD
TZOFFSETFROM:+0200
TZOFFSETTO:+0100
TZNAME:CET
DTSTART:20261025T010000
END:STANDARD
END:VTIMEZONE
BEGIN:VEVENT
DTSTART;TZID=Europe/Berlin:20250516T170000
DTEND;TZID=Europe/Berlin:20250516T200000
DTSTAMP:20260421T021705
CREATED:20250224T124701Z
LAST-MODIFIED:20250519T143800Z
UID:1082-1747414800-1747425600@www.jakobsweg-werne.de
SUMMARY:Brunnen der Begegnung: Frauen im Austausch
DESCRIPTION:Brunnen der Begegnung: Frauen im Austausch\n“ Wo Herzen und Gedanken fließen“\n\nEin Brunnen auf dem Weg lädt ein\, anzuhalten und eine Ruhepause einzulegen. Das Wasser löscht den Durst und erfrischt\n– ein Ort der Stärkung.\nFrüher trafen sich die Menschen zum Wasser holen am Brunnen\n– ein Ort der Begegnung.\nJesus begegnet der Frau am Jakobsbrunnen und was er ihr sagt\, verändert sie\n– ein Ort der Erkenntnis. \nHerzlich laden wir interessierte Frauen ein\, auf unserem Pilgerweg durch Werne verschiedene Brunnen aufzusuchen und eigene Brunnenerfahrungen zu machen. Dabei helfen uns Lieder\, Texte und ein Märchen\, unsere inneren Bilder zu beleben und in den Austausch zu kommen. \nUnser Weg startet von der Pilger Stele und führt an der Horne entlang bis zur Saline. Wir umrunden den Stadtsee. Unser Weg führt uns dann an der Martin-Luther-Kirche vorbei zum Moormann Brunnen. Dann geht es zur Klosterkirche und im Klostergarten beschließen wir unseren Pilgergang. \nFreitag\, 16. Mai 2025\nTreffpunkt: Pilger Stele auf dem Kirchhof in Werne\n( Die Stele befindet sich in unmittelbarer Nähe zum Karl-Pollender- Stadtmuseum)\nStart: 17.00 Uhr an der Pilger Stele\nEnde: gegen 20.00 Uhr im Klostergarten\nTour Länge: 3\,5 km\nBegleitung: Pia Gunnemann\, Gabriele Kranemann \nKostenfrei\, eine Anmeldung ist nicht erforderlich! \n  \n 
URL:https://www.jakobsweg-werne.de/aktivitaeten/brunnen-der-begegnung-frauen-im-austausch/
LOCATION:Pilger Stele auf dem Kirchhof in Werne
CATEGORIES:Aktivitäten
END:VEVENT
END:VCALENDAR