BEGIN:VCALENDAR
VERSION:2.0
PRODID:-//Förderverein Jakobsweg Werne e.V. - ECPv6.15.20//NONSGML v1.0//EN
CALSCALE:GREGORIAN
METHOD:PUBLISH
X-ORIGINAL-URL:https://www.jakobsweg-werne.de
X-WR-CALDESC:Veranstaltungen für Förderverein Jakobsweg Werne e.V.
REFRESH-INTERVAL;VALUE=DURATION:PT1H
X-Robots-Tag:noindex
X-PUBLISHED-TTL:PT1H
BEGIN:VTIMEZONE
TZID:Europe/Berlin
BEGIN:DAYLIGHT
TZOFFSETFROM:+0100
TZOFFSETTO:+0200
TZNAME:CEST
DTSTART:20240331T010000
END:DAYLIGHT
BEGIN:STANDARD
TZOFFSETFROM:+0200
TZOFFSETTO:+0100
TZNAME:CET
DTSTART:20241027T010000
END:STANDARD
BEGIN:DAYLIGHT
TZOFFSETFROM:+0100
TZOFFSETTO:+0200
TZNAME:CEST
DTSTART:20250330T010000
END:DAYLIGHT
BEGIN:STANDARD
TZOFFSETFROM:+0200
TZOFFSETTO:+0100
TZNAME:CET
DTSTART:20251026T010000
END:STANDARD
BEGIN:DAYLIGHT
TZOFFSETFROM:+0100
TZOFFSETTO:+0200
TZNAME:CEST
DTSTART:20260329T010000
END:DAYLIGHT
BEGIN:STANDARD
TZOFFSETFROM:+0200
TZOFFSETTO:+0100
TZNAME:CET
DTSTART:20261025T010000
END:STANDARD
END:VTIMEZONE
BEGIN:VEVENT
DTSTART;TZID=Europe/Berlin:20250404T180000
DTEND;TZID=Europe/Berlin:20250404T200000
DTSTAMP:20260421T040743
CREATED:20241127T145111Z
LAST-MODIFIED:20250224T125338Z
UID:932-1743789600-1743796800@www.jakobsweg-werne.de
SUMMARY:Pilgerstammtisch
DESCRIPTION:Pilgerstammtisch in 2025\nDer Förderverein Jakobsweg Werne e. V. lädt wieder alle Pilgerinnen und Pilger und solche\, die es werden wollen\,  zum einem Pilger-Stammtisch ein. Das sechsteTreffen findet statt im am Freitag\, den 04. April 2025.\n \nDer Stammtisch dient dem unverbindlichen Erfahrungsaustausch in lockerer Atmosphäre.\nEgal:\n– ob neu oder mit Blasen von tausenden Pilger- Kilometern versehen\n– ob Spanien\, Portugal\, Frankreich oder einfach vor der Haustür\n– ob an einer Pilgrschaft interssiert oder bereit\, die eigenen Erfahrungen zu teilen\, \nist jede/-r zur Teilnahme eingeladen. Marek Stasiczek steht als Ansprechpartner zur Verfügung. Er verfügt über jahrelange Pilgererfahrung \nWeitere Termine: \nAb Herbst 2025 laden wir dann wieder zum Stammtisch an jedem zweiten Freitag im Monat ab 18.00 Uhr ein.\nDie genauen Termine werden noch bekanntgegeben. \nEine vorherige Anmeldung ist nicht erforderlich.\nTreffpunkt: Restaurant „Stilvoll im Rathaus“\, 59368 Werne\, Markt 9
URL:https://www.jakobsweg-werne.de/aktivitaeten/pilgerstammtisch-6/
LOCATION:Restaurant „Stilvoll im Rathaus“\, Markt 9\, 59368 Werne
CATEGORIES:Aktivitäten
END:VEVENT
BEGIN:VEVENT
DTSTART;TZID=Europe/Berlin:20250417T193000
DTEND;TZID=Europe/Berlin:20250417T213000
DTSTAMP:20260421T040743
CREATED:20250224T124536Z
LAST-MODIFIED:20250519T144047Z
UID:1030-1744918200-1744925400@www.jakobsweg-werne.de
SUMMARY:Eröffnung der Pilgersaison 2025
DESCRIPTION:„Beten – Wachen – Verrat aushalten…“\nEröffnung der Pilgersaison 2025 \nAm Abend nach dem letzten Abendmahl im Kreis der Jünger laden wir ein\, Jesus auf den Ölberg zu begleiten.\nDonnerstag\, den  17.04.2025 um 19.30 Uhr Teilnahme an der Abendmahlsmesse in der Klosterkirche.\nAnschließend gegen 20.45 Uhr mit P. Harald  „Gang in die Nacht“. An mehreren Stationen gibt es spirituelle Impulse und Gebete\,  die Zeit lassen für eigene Gedanken und die Begegnung mit Gott. Der „Gang in die Nacht“ endet mit einem stillen Auseinandergehen.
URL:https://www.jakobsweg-werne.de/aktivitaeten/eroeffnung-der-pilgersaison-2025/
LOCATION:Kapuzinerkloster Werne\, Südmauer 5\, Werne\, 59368
CATEGORIES:Aktivitäten
END:VEVENT
END:VCALENDAR