BEGIN:VCALENDAR
VERSION:2.0
PRODID:-//Förderverein Jakobsweg Werne e.V. - ECPv6.15.20//NONSGML v1.0//EN
CALSCALE:GREGORIAN
METHOD:PUBLISH
X-WR-CALNAME:Förderverein Jakobsweg Werne e.V.
X-ORIGINAL-URL:https://www.jakobsweg-werne.de
X-WR-CALDESC:Veranstaltungen für Förderverein Jakobsweg Werne e.V.
REFRESH-INTERVAL;VALUE=DURATION:PT1H
X-Robots-Tag:noindex
X-PUBLISHED-TTL:PT1H
BEGIN:VTIMEZONE
TZID:Europe/Berlin
BEGIN:DAYLIGHT
TZOFFSETFROM:+0100
TZOFFSETTO:+0200
TZNAME:CEST
DTSTART:20230326T010000
END:DAYLIGHT
BEGIN:STANDARD
TZOFFSETFROM:+0200
TZOFFSETTO:+0100
TZNAME:CET
DTSTART:20231029T010000
END:STANDARD
BEGIN:DAYLIGHT
TZOFFSETFROM:+0100
TZOFFSETTO:+0200
TZNAME:CEST
DTSTART:20240331T010000
END:DAYLIGHT
BEGIN:STANDARD
TZOFFSETFROM:+0200
TZOFFSETTO:+0100
TZNAME:CET
DTSTART:20241027T010000
END:STANDARD
BEGIN:DAYLIGHT
TZOFFSETFROM:+0100
TZOFFSETTO:+0200
TZNAME:CEST
DTSTART:20250330T010000
END:DAYLIGHT
BEGIN:STANDARD
TZOFFSETFROM:+0200
TZOFFSETTO:+0100
TZNAME:CET
DTSTART:20251026T010000
END:STANDARD
END:VTIMEZONE
BEGIN:VEVENT
DTSTART;TZID=Europe/Berlin:20240907T093000
DTEND;TZID=Europe/Berlin:20240907T130000
DTSTAMP:20260421T160540
CREATED:20240222T140844Z
LAST-MODIFIED:20240222T145333Z
UID:789-1725701400-1725714000@www.jakobsweg-werne.de
SUMMARY:„Stiftskirche Cappenberg“
DESCRIPTION:Pilgern am Vormittag von Werne zur Stiftskirche Cappenberg\nTrefffpunkt: 09:30Uhr Pilger Stele\nMit dem Pilgersegen starten wir an diesem Samstagmorgen an der Pilger Stele.\nDer rund zehn Kilometer lange Weg führt uns über schöne Feld-\, Wald – und Wiesenwege durch die münsterländische Parklandschaft.\nUnterwegs wird Pilgerbegleiterin Gabriele Kranemann an verschiedenen Haltepunkten Impulse geben\, die zur Besinnung einladen\,\naber auch den Blick über den Alltag hinaus weiten.\nZiel ist die Stiftskirche St. Johannes  Evangelist in Cappenberg\, wo der gemeinsame Abschluss der Pilgertour stattfindet. \nBegleitung: Gabriele Kranemann \nFür die Rückfahrt nach Werne ist gesorgt \nTour Länge: ca.10 km  \n 
URL:https://www.jakobsweg-werne.de/aktivitaeten/stiftskirche-cappenberg-2/
LOCATION:Pilgerstele\, Kirchhof in Werne\, Kirchhof 1\, Werne\, 59368
CATEGORIES:Aktivitäten
END:VEVENT
END:VCALENDAR