BEGIN:VCALENDAR
VERSION:2.0
PRODID:-//Förderverein Jakobsweg Werne e.V. - ECPv6.15.20//NONSGML v1.0//EN
CALSCALE:GREGORIAN
METHOD:PUBLISH
X-ORIGINAL-URL:https://www.jakobsweg-werne.de
X-WR-CALDESC:Veranstaltungen für Förderverein Jakobsweg Werne e.V.
REFRESH-INTERVAL;VALUE=DURATION:PT1H
X-Robots-Tag:noindex
X-PUBLISHED-TTL:PT1H
BEGIN:VTIMEZONE
TZID:Europe/Berlin
BEGIN:DAYLIGHT
TZOFFSETFROM:+0100
TZOFFSETTO:+0200
TZNAME:CEST
DTSTART:20230326T010000
END:DAYLIGHT
BEGIN:STANDARD
TZOFFSETFROM:+0200
TZOFFSETTO:+0100
TZNAME:CET
DTSTART:20231029T010000
END:STANDARD
BEGIN:DAYLIGHT
TZOFFSETFROM:+0100
TZOFFSETTO:+0200
TZNAME:CEST
DTSTART:20240331T010000
END:DAYLIGHT
BEGIN:STANDARD
TZOFFSETFROM:+0200
TZOFFSETTO:+0100
TZNAME:CET
DTSTART:20241027T010000
END:STANDARD
BEGIN:DAYLIGHT
TZOFFSETFROM:+0100
TZOFFSETTO:+0200
TZNAME:CEST
DTSTART:20250330T010000
END:DAYLIGHT
BEGIN:STANDARD
TZOFFSETFROM:+0200
TZOFFSETTO:+0100
TZNAME:CET
DTSTART:20251026T010000
END:STANDARD
END:VTIMEZONE
BEGIN:VEVENT
DTSTART;TZID=Europe/Berlin:20240704T200000
DTEND;TZID=Europe/Berlin:20240704T213000
DTSTAMP:20260421T191931
CREATED:20240222T131116Z
LAST-MODIFIED:20240222T151515Z
UID:759-1720123200-1720128600@www.jakobsweg-werne.de
SUMMARY:Jahreshauptversammlung des Fördervereins Jakobsweg Werne e.V.
DESCRIPTION:Zur Mitgliederversammlung am Donnerstag\, den 04. Juli 2024 um 20:00 Uhr\nladen wir in das Kapuzinerkloster ein. \nEs erfolgt noch eine gesonderte Einladung. \n \n  \n 
URL:https://www.jakobsweg-werne.de/aktivitaeten/jahreshauptversammlung-des-foerdervereins-jakobsweg-werne-e-v-2/
LOCATION:Kapuzinerkloster Werne\, Südmauer 5\, Werne\, 59368
CATEGORIES:Aktivitäten
END:VEVENT
BEGIN:VEVENT
DTSTART;TZID=Europe/Berlin:20240725T180000
DTEND;TZID=Europe/Berlin:20240725T220000
DTSTAMP:20260421T191931
CREATED:20240222T133241Z
LAST-MODIFIED:20240222T133245Z
UID:766-1721930400-1721944800@www.jakobsweg-werne.de
SUMMARY:„Jakobusfest"
DESCRIPTION:Gottesdienst zum Geburtstag des Hl. Jakobus\nund Jakobusfest im Klostergarten\n18:00 Uhr Feierlicher Gottesdienst in der Klosterkirche\nAnschließend laden wir zum Jakobusfest in den Klostergarten ein.
URL:https://www.jakobsweg-werne.de/aktivitaeten/jakobusfest-2/
LOCATION:Kapuzinerkloster Werne\, Südmauer 5\, Werne\, 59368
CATEGORIES:Aktivitäten
END:VEVENT
BEGIN:VEVENT
DTSTART;TZID=Europe/Berlin:20240728T111500
DTEND;TZID=Europe/Berlin:20240728T130000
DTSTAMP:20260421T191931
CREATED:20240222T134152Z
LAST-MODIFIED:20240222T134239Z
UID:769-1722165300-1722171600@www.jakobsweg-werne.de
SUMMARY:Gottesdienst zum Jakobustag
DESCRIPTION:Gottesdienst am Jakobustag\nund anschl. Treffen an der Pilger Stele\n11.15 Uhr Feierlicher Gottesdienst\nin der St. Christophours Kirche\nund anschließend Treffen an der Pilger Stele \n \n 
URL:https://www.jakobsweg-werne.de/aktivitaeten/gottesdienst-zum-jakobustag/
LOCATION:St. Christophours Kirche\, Kirchhof\, 59368 Werne
CATEGORIES:Aktivitäten
END:VEVENT
END:VCALENDAR