BEGIN:VCALENDAR
VERSION:2.0
PRODID:-//Förderverein Jakobsweg Werne e.V. - ECPv6.15.20//NONSGML v1.0//EN
CALSCALE:GREGORIAN
METHOD:PUBLISH
X-WR-CALNAME:Förderverein Jakobsweg Werne e.V.
X-ORIGINAL-URL:https://www.jakobsweg-werne.de
X-WR-CALDESC:Veranstaltungen für Förderverein Jakobsweg Werne e.V.
REFRESH-INTERVAL;VALUE=DURATION:PT1H
X-Robots-Tag:noindex
X-PUBLISHED-TTL:PT1H
BEGIN:VTIMEZONE
TZID:Europe/Berlin
BEGIN:DAYLIGHT
TZOFFSETFROM:+0100
TZOFFSETTO:+0200
TZNAME:CEST
DTSTART:20230326T010000
END:DAYLIGHT
BEGIN:STANDARD
TZOFFSETFROM:+0200
TZOFFSETTO:+0100
TZNAME:CET
DTSTART:20231029T010000
END:STANDARD
BEGIN:DAYLIGHT
TZOFFSETFROM:+0100
TZOFFSETTO:+0200
TZNAME:CEST
DTSTART:20240331T010000
END:DAYLIGHT
BEGIN:STANDARD
TZOFFSETFROM:+0200
TZOFFSETTO:+0100
TZNAME:CET
DTSTART:20241027T010000
END:STANDARD
BEGIN:DAYLIGHT
TZOFFSETFROM:+0100
TZOFFSETTO:+0200
TZNAME:CEST
DTSTART:20250330T010000
END:DAYLIGHT
BEGIN:STANDARD
TZOFFSETFROM:+0200
TZOFFSETTO:+0100
TZNAME:CET
DTSTART:20251026T010000
END:STANDARD
END:VTIMEZONE
BEGIN:VEVENT
DTSTART;TZID=Europe/Berlin:20240503T170000
DTEND;TZID=Europe/Berlin:20240503T190000
DTSTAMP:20260421T223356
CREATED:20240221T123310Z
LAST-MODIFIED:20240222T145950Z
UID:744-1714755600-1714762800@www.jakobsweg-werne.de
SUMMARY:„Pilger-Stadtspaziergang"
DESCRIPTION:Wir entdecken wichtige Pilgerstationen in unserer Stadt.\nDer Abschluss findet im Klostergarten bei Brot\, Käse und einem Getränk statt.\nPilgerbegeleiterin: Heidelore Fertig-Möller\nTreffpunkt: 17.00 Uhr Pilger-Stele \nTour Länge: ca. 3km\, Tour Dauer: ca. 2 Std. und anschließendem Abschluss.\n \nAbschluss: Im Klostergarten mit einem Getränk
URL:https://www.jakobsweg-werne.de/aktivitaeten/pilgern-in-meiner-stadt/
LOCATION:Pilger Stele auf dem Kirchhof in Werne
CATEGORIES:Aktivitäten
END:VEVENT
BEGIN:VEVENT
DTSTART;TZID=Europe/Berlin:20240524T170000
DTEND;TZID=Europe/Berlin:20240524T183000
DTSTAMP:20260421T223356
CREATED:20240222T130814Z
LAST-MODIFIED:20240222T150635Z
UID:755-1716570000-1716575400@www.jakobsweg-werne.de
SUMMARY:Gottes Kraft im Wunder der Schöpfung
DESCRIPTION:Gottes Kraft im Wunder der Schöpfung\nWir gehen den neuen Pilgerweg am Krankenhaus See \nBegleitung:Brunhilde Oestermann-Giersch \nTreffpunkt: 17.00 Uhr am Eingang zur Krankenhaus Kapelle\nam St. Christophours Krankenhaus am See\, Werne\nAbschluss: ca.18.30 Uhr auf der Terrasse\nTour Länge: ca. 1 km \n \n 
URL:https://www.jakobsweg-werne.de/aktivitaeten/krankenhauspilgerweg/
LOCATION:St. Christophorus Krankenhaus\, Am See 1\, 59368 Werne
CATEGORIES:Aktivitäten
END:VEVENT
END:VCALENDAR