BEGIN:VCALENDAR
VERSION:2.0
PRODID:-//Förderverein Jakobsweg Werne e.V. - ECPv6.15.20//NONSGML v1.0//EN
CALSCALE:GREGORIAN
METHOD:PUBLISH
X-WR-CALNAME:Förderverein Jakobsweg Werne e.V.
X-ORIGINAL-URL:https://www.jakobsweg-werne.de
X-WR-CALDESC:Veranstaltungen für Förderverein Jakobsweg Werne e.V.
REFRESH-INTERVAL;VALUE=DURATION:PT1H
X-Robots-Tag:noindex
X-PUBLISHED-TTL:PT1H
BEGIN:VTIMEZONE
TZID:Europe/Berlin
BEGIN:DAYLIGHT
TZOFFSETFROM:+0100
TZOFFSETTO:+0200
TZNAME:CEST
DTSTART:20230326T010000
END:DAYLIGHT
BEGIN:STANDARD
TZOFFSETFROM:+0200
TZOFFSETTO:+0100
TZNAME:CET
DTSTART:20231029T010000
END:STANDARD
BEGIN:DAYLIGHT
TZOFFSETFROM:+0100
TZOFFSETTO:+0200
TZNAME:CEST
DTSTART:20240331T010000
END:DAYLIGHT
BEGIN:STANDARD
TZOFFSETFROM:+0200
TZOFFSETTO:+0100
TZNAME:CET
DTSTART:20241027T010000
END:STANDARD
BEGIN:DAYLIGHT
TZOFFSETFROM:+0100
TZOFFSETTO:+0200
TZNAME:CEST
DTSTART:20250330T010000
END:DAYLIGHT
BEGIN:STANDARD
TZOFFSETFROM:+0200
TZOFFSETTO:+0100
TZNAME:CET
DTSTART:20251026T010000
END:STANDARD
END:VTIMEZONE
BEGIN:VEVENT
DTSTART;TZID=Europe/Berlin:20240411T193000
DTEND;TZID=Europe/Berlin:20240411T210000
DTSTAMP:20260422T001906
CREATED:20240221T121921Z
LAST-MODIFIED:20240221T124812Z
UID:740-1712863800-1712869200@www.jakobsweg-werne.de
SUMMARY:„Den Staub von der Seele wandern - meine Erfahrungen auf dem Jakobsweg"
DESCRIPTION:Autorenlesung\nBuchautor Manfred Krain im Dialog mit Verleger Magnus See \n\n\n\n\n\n 
URL:https://www.jakobsweg-werne.de/aktivitaeten/autorenlesung/
LOCATION:Familienbildungsstätte Werne\, Seminarraum 1\,\, Konrad-Adenauer-Str. 8\, Werne
CATEGORIES:Aktivitäten
END:VEVENT
END:VCALENDAR